BEGIN:VCALENDAR
VERSION:2.0
PRODID:-//EFIS - ECPv6.0.11//NONSGML v1.0//EN
CALSCALE:GREGORIAN
METHOD:PUBLISH
X-WR-CALNAME:EFIS
X-ORIGINAL-URL:https://www.efis.se
X-WR-CALDESC:Events for EFIS
REFRESH-INTERVAL;VALUE=DURATION:PT1H
X-Robots-Tag:noindex
X-PUBLISHED-TTL:PT1H
BEGIN:VTIMEZONE
TZID:Europe/Stockholm
BEGIN:DAYLIGHT
TZOFFSETFROM:+0100
TZOFFSETTO:+0200
TZNAME:CEST
DTSTART:20250330T010000
END:DAYLIGHT
BEGIN:STANDARD
TZOFFSETFROM:+0200
TZOFFSETTO:+0100
TZNAME:CET
DTSTART:20251026T010000
END:STANDARD
END:VTIMEZONE
BEGIN:VEVENT
DTSTART;TZID=Europe/Stockholm:20251119T183000
DTEND;TZID=Europe/Stockholm:20251119T200000
DTSTAMP:20260425T234424
CREATED:20251106T182140Z
LAST-MODIFIED:20251106T182140Z
UID:16725-1763577000-1763582400@www.efis.se
SUMMARY:Känslor i det forntida Egypten: Ensamhet och isolering i brev och fiktiva texter
DESCRIPTION:Ensamhet och isolering är vanliga känslor i dagens samhälle vilket också utgör ett stort hälsoproblem. Dessa känslor är dock inte unika för dagens samhälle\, utan upplevdes även av de som levde i det forntida Egypten. I detta föredrag presenteras material och resultat från en masteruppsats som utforskar ensamhet i det forntida Egypten. Fiktiva och icke-fiktiva texter som rör ensamhet och isolering lyfts fram för att skapa en bild av ensamhet\, som uttryck\, men även social och emotionell verklighet. \nAndreas Hallström har nyligen erhållit sin masterexamen i Egyptologi vid Uppsala universitet (2025). Han har ett intresse för bland annat det forntida Egyptens socialhistoria och samhällsstrukturer.
URL:https://www.efis.se/event/kanslor-i-det-forntida-egypten-ensamhet-och-isolering-i-brev-och-fiktiva-texter/
LOCATION:Vuxenskolan Gärdet\, Sandhamnsgatan 8\, Stockholm\, Sverige
CATEGORIES:Föredrag
ATTACH;FMTTYPE=image/jpeg:https://www.efis.se/wp-content/uploads/2025/11/efis.jpg
END:VEVENT
END:VCALENDAR