BEGIN:VCALENDAR
VERSION:2.0
PRODID:-//EFIS - ECPv6.0.11//NONSGML v1.0//EN
CALSCALE:GREGORIAN
METHOD:PUBLISH
X-WR-CALNAME:EFIS
X-ORIGINAL-URL:https://www.efis.se
X-WR-CALDESC:Events for EFIS
REFRESH-INTERVAL;VALUE=DURATION:PT1H
X-Robots-Tag:noindex
X-PUBLISHED-TTL:PT1H
BEGIN:VTIMEZONE
TZID:Europe/Stockholm
BEGIN:DAYLIGHT
TZOFFSETFROM:+0100
TZOFFSETTO:+0200
TZNAME:CEST
DTSTART:20230326T010000
END:DAYLIGHT
BEGIN:STANDARD
TZOFFSETFROM:+0200
TZOFFSETTO:+0100
TZNAME:CET
DTSTART:20231029T010000
END:STANDARD
END:VTIMEZONE
BEGIN:VEVENT
DTSTART;TZID=Europe/Stockholm:20230420T183000
DTEND;TZID=Europe/Stockholm:20230420T200000
DTSTAMP:20260426T055002
CREATED:20230323T204027Z
LAST-MODIFIED:20230324T074747Z
UID:16366-1682015400-1682020800@www.efis.se
SUMMARY:The Restoration of the tomb of Amennakhte at Deir el-Medine – insights into tomb construction\, wall collapses and earlier excavations
DESCRIPTION:In 2021\, the Universities of Uppsala and Liège (Belgium) jointly launched a restoration project as part of the larger project on Deir el-Medine led by the French Archaeological Institute in Cairo. The presentation will provide you with results on the restorations carried out\, in particular the reconstruction of collapsed walls and a larger part of a facade with the floor above\, the securing of open shafts\, the problems of identifying modern and ancient walls\, details on ancient tomb building as well as with arguments as to why this undecorated tomb is attributed to the necropolis scribe Amennakhte son of Ipuy who was the chief scribe under Ramses III\, IV\, V and VI. \nMed Andreas Dorn\, professor i Egyptologi vid Uppsala universitet. Föredraget hålls på engelska.
URL:https://www.efis.se/event/the-restoration-of-the-tomb-of-amennakhte-at-deir-el-medine-insights-into-tomb-construction-wall-collapses-and-earlier-excavations/
LOCATION:Hjorthagens Kulturhus\, Artemisgatan 19\, Stockholm\, Sverige
CATEGORIES:Föredrag
ATTACH;FMTTYPE=image/png:https://www.efis.se/wp-content/uploads/2023/03/Amennakhte.png
END:VEVENT
BEGIN:VEVENT
DTSTART;TZID=Europe/Stockholm:20230330T183000
DTEND;TZID=Europe/Stockholm:20230330T193000
DTSTAMP:20260426T055002
CREATED:20230323T203149Z
LAST-MODIFIED:20230323T204120Z
UID:16358-1680201000-1680204600@www.efis.se
SUMMARY:Den svarta pyramiden – Fakta och fiktion i nordisk tidigmodern egyptologi
DESCRIPTION:I början av 1700-talet kom vetenskapsresenärer från Sverige och Danmark att besöka Egypten i syfte att utforska dess fornhistoria. Dessa expeditioner genomfördes under en tid då nya vetenskapliga ideal kom att utmana äldre teorier om det forntida Egypten. Detta föredrag handlar om vilka teorier som överlevde\, utmanades eller omvärderades samt vilken kunskap som producerades om det forntida Egypten i Norden. \nMed Joachim Östlund\, docent och lektor i historia vid Lunds universitet. \nFöredraget ges digitalt (via Zoom)\, föranmälan krävs – klicka här.
URL:https://www.efis.se/event/den-svarta-pyramiden-fakta-och-fiktion-i-nordisk-tidigmodern-egyptologi/
LOCATION:Zoom
CATEGORIES:Föredrag
ATTACH;FMTTYPE=image/png:https://www.efis.se/wp-content/uploads/2023/02/JO.png
END:VEVENT
END:VCALENDAR