BEGIN:VCALENDAR
VERSION:2.0
PRODID:-//EFIS - ECPv6.0.11//NONSGML v1.0//EN
CALSCALE:GREGORIAN
METHOD:PUBLISH
X-WR-CALNAME:EFIS
X-ORIGINAL-URL:https://www.efis.se
X-WR-CALDESC:Events for EFIS
REFRESH-INTERVAL;VALUE=DURATION:PT1H
X-Robots-Tag:noindex
X-PUBLISHED-TTL:PT1H
BEGIN:VTIMEZONE
TZID:Europe/Stockholm
BEGIN:DAYLIGHT
TZOFFSETFROM:+0100
TZOFFSETTO:+0200
TZNAME:CEST
DTSTART:20230326T010000
END:DAYLIGHT
BEGIN:STANDARD
TZOFFSETFROM:+0200
TZOFFSETTO:+0100
TZNAME:CET
DTSTART:20231029T010000
END:STANDARD
BEGIN:DAYLIGHT
TZOFFSETFROM:+0100
TZOFFSETTO:+0200
TZNAME:CEST
DTSTART:20240331T010000
END:DAYLIGHT
BEGIN:STANDARD
TZOFFSETFROM:+0200
TZOFFSETTO:+0100
TZNAME:CET
DTSTART:20241027T010000
END:STANDARD
END:VTIMEZONE
BEGIN:VEVENT
DTSTART;TZID=Europe/Stockholm:20240425T183000
DTEND;TZID=Europe/Stockholm:20240425T200000
DTSTAMP:20260426T041414
CREATED:20240112T093120Z
LAST-MODIFIED:20240403T125325Z
UID:16541-1714069800-1714075200@www.efis.se
SUMMARY:Typiskt fornegyptiskt!?
DESCRIPTION:En introduktion till fornegyptisk arkitektur\, konst och lite litteratur\, utifrån ett urval exempel som kompareras på olika sätt. Vad som uppfattas som typiskt fornegyptiskt beror ibland på vad man jämför med. Passa på att få en inblick i det lite typiskt fornegyptiska via en föreläsning som ger en kortfattad introduktion till\nfornegyptisk arkitektur\, konst och lite litteratur. Under föreläsningen lyfts några exempel fram och diskuteras utifrån dess kontext. \nMed; Åsa Klintberg\, Magister i Egyptologi & Historia. Lärare i kulturhistoria\, historia.
URL:https://www.efis.se/event/typiskt-fornegyptiskt/
LOCATION:Hjorthagens Kulturhus\, Artemisgatan 19\, Stockholm\, Sverige
CATEGORIES:Föredrag
ATTACH;FMTTYPE=image/jpeg:https://www.efis.se/wp-content/uploads/2024/01/konst_WEB.jpg
END:VEVENT
BEGIN:VEVENT
DTSTART;TZID=Europe/Stockholm:20240314T183000
DTEND;TZID=Europe/Stockholm:20240314T200000
DTSTAMP:20260426T041414
CREATED:20240112T092542Z
LAST-MODIFIED:20240112T092542Z
UID:16537-1710441000-1710446400@www.efis.se
SUMMARY:Amarnabreven och vad de kan berätta om diplomati i forna Mellanöstern
DESCRIPTION:De så kallade Amarnabreven är en korrespondens mellan regenter i forna Mellanöstern som till stora delar skrevs på kilskrift under farao Amenhotep III:s och farao Akhenatens regeringsperioder (Nya rikets 18:de dynasti). I föredraget presenteras den historiska kontext i vilken korrespondensen skrevs och fyndet av brevarkivet under slutet av 1800-talet. Avslutningsvis diskuteras brevens innehåll och vad de kan berätta om diplomatiska förbindelser i det forna Mellanöstern. \nPatricia Berg (f. 1978) är doktor i egyptologi. Hon disputerade 2015 på avhandlingen Perspectives on Mobility and Travelling. A study of references to functionally-bound forms of individual movement in non-literary texts from New Kingdom Deir el-Medina. Berg är verksam som utgivningschef vid Svenska litteratursällskapet i Finland\, Helsingfors.
URL:https://www.efis.se/event/amarnabreven-och-vad-de-kan-beratta-om-diplomati-i-forna-mellanostern/
LOCATION:Hjorthagens Kulturhus\, Artemisgatan 19\, Stockholm\, Sverige
CATEGORIES:Föredrag
ATTACH;FMTTYPE=image/jpeg:https://www.efis.se/wp-content/uploads/2024/01/Amarna_letters_WEB.jpg
END:VEVENT
BEGIN:VEVENT
DTSTART;TZID=Europe/Stockholm:20240206T183000
DTEND;TZID=Europe/Stockholm:20240206T200000
DTSTAMP:20260426T041414
CREATED:20240112T092148Z
LAST-MODIFIED:20240112T092148Z
UID:16534-1707244200-1707249600@www.efis.se
SUMMARY:Egyptiska skapelsemyter
DESCRIPTION:Det finns flera skapelsemyter från det faraonska Egypten\, från olika platser och med många olika gudar. Egyptiska texter ger sällan hela myter\, utan ger referenser till dem och blandar gärna också olika myter i samma text. Här kommer att ges en introduktion till skapelsemyter där vi går igenom några av dem och reder ut hur de kunde användas tillsammans i texterna. \nAnne Landborg (f. 1981) är doktor i egyptologi och forskar inom egyptisk religion med specialisering på Kisttexter. Hon är ordförande i EFIS.
URL:https://www.efis.se/event/egyptiska-skapelsemyter/
LOCATION:Hjorthagens Kulturhus\, Artemisgatan 19\, Stockholm\, Sverige
CATEGORIES:Årsmöte,Föredrag
ATTACH;FMTTYPE=image/png:https://www.efis.se/wp-content/uploads/2024/01/Khonsumes_WEB.png
END:VEVENT
BEGIN:VEVENT
DTSTART;TZID=Europe/Stockholm:20231206T173000
DTEND;TZID=Europe/Stockholm:20231206T183000
DTSTAMP:20260426T041414
CREATED:20230829T131826Z
LAST-MODIFIED:20231120T123430Z
UID:16457-1701883800-1701887400@www.efis.se
SUMMARY:Visning av Medelhavsmuseets Egypten-utställning med Sofia Häggman
DESCRIPTION:ENDAST MEDLEMMAR\, föranmälan krävs! Maila sekreterare@efis.se \nFölj med på en exklusiv visning av Medelhavsmuseets Egypten-utställning med intendent och egyptolog Sofia Häggman. Visningen tar sin början i de första bosättningarna för 7000 år sedan och fokuserar sedan på den faraonska perioden. I källaren får vi träffa prästen Neswaius mumie som har scannats och med hjälp av 3D-visualisering kan vi se in genom lindorna. Det här är ett perfekt tillfälle för dig som vill djupdyka i utställningen eller är extra nyfiken på mumier. \nSofia Häggman är egyptolog och arbetar som intendent på Medelhavsmuseet. Förra året släppte hon boken Mumier – Fakta\, forskning\, fiktion.
URL:https://www.efis.se/event/visning-av-medelhavsmuseets-egypten-utstallning/
LOCATION:Medelhavsmuseet\, Fredsgatan 2\, Stockholm\, Sverige
CATEGORIES:Endast medlemmar,Visning
ATTACH;FMTTYPE=image/png:https://www.efis.se/wp-content/uploads/2023/08/bild.png
END:VEVENT
BEGIN:VEVENT
DTSTART;TZID=Europe/Stockholm:20231116T170000
DTEND;TZID=Europe/Stockholm:20231116T183000
DTSTAMP:20260426T041414
CREATED:20231019T070339Z
LAST-MODIFIED:20231019T070635Z
UID:16500-1700154000-1700159400@www.efis.se
SUMMARY:Surviving King’s Coffins from the Royal Theban Cache TT 320: Seqenenre Tao\, Thutmose I\, Thutmose III\, and Ramses II
DESCRIPTION:The Theban Tomb 320 burial cache discovered at Deir el Bahari revealed a number of king’s coffins used to rebury kings and priest-kings. These coffins had been stripped of gold and other valuables before reuse\, providing evidence that kings’ burials were systematically recommodified. Most kings were not reburied in their own royal coffins. The surviving king’s coffins suggest they were regilded even after gold sheeting and inlay was removed\, probably for display of some kind. Such gilding was later removed in the 22nd Dynasty. The stratigraphy of these New Kingdom royal coffins thus preserves a series of contradictory actions\, including recommodification and reuse to source scarce and necessary valuables\, restoration to broadcast care and ritual attention for the ancestor-kings\, and finally stripping of valuables after that display potential had run out. This talk will include material analysis of the surviving kings’ coffins along a timeline of changing social conditions to examine contradictory actions of reuse\, restoration\, display\, and recycling. \nKathlyn (Kara) Cooney is a professor of Egyptian Art and Architecture and Chair of the Department of Near Eastern Languages and Cultures at UCLA. Cooney’s research in coffin reuse\, primarily focusing on the 21st Dynasty\, is ongoing. Her book Recycling for Death: Coffin Reuse in Ancient Egypt and the Theban Royal Caches will appear in the coming year with American University Press in Cairo. This research investigates the socioeconomic and political turmoil that has plagued the period\, ultimately affecting funerary and burial practices in ancient Egypt. This project has taken her around the world over ten years to study and document more than 300 coffins in multiple collections\, including Cairo\, London\, Paris\, Berlin\, and Vatican City. Her latest books include: When Women Ruled the World: Six Queens of Egypt\, published in 2018 by National Geographic Press; and The Good Kings: Absolute Power in Ancient Egypt and the Modern World\, which appeared with National Geographic Books in 2021. \nThis is a hybrid event\, you can join either via Zoom (link below) or at Uppsala University\, room Engelska Parken 22-0031.
URL:https://www.efis.se/event/surviving-kings-coffins-from-the-royal-theban-cache-tt-320-seqenenre-tao-thutmose-i-thutmose-iii-and-ramses-ii/
LOCATION:Uppsala universitet\, Uppsala\, Sverige
CATEGORIES:Föredrag
ATTACH;FMTTYPE=image/jpeg:https://www.efis.se/wp-content/uploads/2023/10/KaraPhoto1.jpg
END:VEVENT
BEGIN:VEVENT
DTSTART;TZID=Europe/Stockholm:20231010T183000
DTEND;TZID=Europe/Stockholm:20231010T200000
DTSTAMP:20260426T041414
CREATED:20230829T123809Z
LAST-MODIFIED:20230923T072446Z
UID:16454-1696962600-1696968000@www.efis.se
SUMMARY:Unis pyramid - på resa genom förvandlingens rum
DESCRIPTION:NYHET: vi kommer att lotta ut begagnade egyptologi-böcker på våra fysiska föredrag – utan extra kostnad! \nI Unis pyramid från ca 2350 f.Kr. finner vi för första gången de så kallade pyramidtexterna inhuggna på gravkamrarnas väggar. De flesta förefaller ha en rituell bakgrund. Exakt vilken är svårare att avgöra\, men det är väl inte otroligt att flera av dem kan ha reciterats i samband med den kungliga begravningen. Med utgångspunkt i sin senaste bok kommer Nils Billing att se närmare på texternas funktion och innehåll\, deras sammansättning\, samt inte minst relation till det fysiska rummet. \nNils Billing (f. 1965)\, filosofie doktor i egyptologi och teologie doktor i religionshistoria\, är verksam som lektor och docent vid Teologiska institutionen\, Uppsala universitet. Han deltar sedan flera år i arkeologiska undersökningar i Egypten. Tidigare publikationer på Carlsson bokförlag är Egyptens pyramider – Evighetens arkitektur i forntid och nutid (2009) och De dödas bok – Den fornegyptiska dödsboken i översättning och kommentar (2016).
URL:https://www.efis.se/event/unis-pyramid-pa-resa-genom-forvandlingens-rum/
LOCATION:Hjorthagens Kulturhus\, Artemisgatan 19\, Stockholm\, Sverige
CATEGORIES:Föredrag
ATTACH;FMTTYPE=image/png:https://www.efis.se/wp-content/uploads/2023/08/nils.png
END:VEVENT
BEGIN:VEVENT
DTSTART;TZID=Europe/Stockholm:20230920T180000
DTEND;TZID=Europe/Stockholm:20230920T193000
DTSTAMP:20260426T041414
CREATED:20230822T130023Z
LAST-MODIFIED:20230823T063348Z
UID:16442-1695232800-1695238200@www.efis.se
SUMMARY:Exploring the city of the Falcon: Egypt’s first capital at Hierakonpolis
DESCRIPTION:Hierakonpolis\, det forntida Nekhen\, är nog för de flesta med egyptologiskt intresse känd som fyndorten för Narmer-paletten\, symbolen för det egyptiska riksenandet omkring år 3100 f.Kr. De senaste årens utgrävningar har dock fokuserats på platsens ännu äldre historia\, omkring 3600 – 3100 f.Kr. Utgrävningar i stadens högreståndsnekropol har bragt i ljuset gravar tillhörande lokala furstar från perioden innan riksenandet\, gravar rika på både gravgods och intressant arkitektur. \nUnder föredraget kommer platsens utgrävningsledare\, fil.dr Renée Friedman (forskare vid Grittiths Institute\, universitetet i Oxford) att tala om dessa utgrävningar\, och inte minst de fascinerande fynden från gravarna. \nFöredraget ges digitalt (via Zoom)\, föranmälan krävs – klicka här. \n(Bild: Babiangrav från högraståndsgrav i Hierakonpolis. Foto: Courtesy of Hierakonpolis Expedition.)
URL:https://www.efis.se/event/exploring-the-city-of-the-falcon-egypts-first-capital-at-hierakonpolis/
LOCATION:Zoom
CATEGORIES:Föredrag
ATTACH;FMTTYPE=image/jpeg:https://www.efis.se/wp-content/uploads/2023/08/baboon-burial.jpg
END:VEVENT
BEGIN:VEVENT
DTSTART;TZID=Europe/Stockholm:20230512T140000
DTEND;TZID=Europe/Stockholm:20230512T150000
DTSTAMP:20260426T041414
CREATED:20230323T204341Z
LAST-MODIFIED:20230421T073845Z
UID:16368-1683900000-1683903600@www.efis.se
SUMMARY:ENDAST MEDLEMMAR: Amarnautställningen på Glypoteket i Köpenhamn
DESCRIPTION:Just nu pågår en Amarnautställning på Glypoteket i Köpenhamn och därför tänkte vi anordna en resa dit den 12:e maj\, exklusivt för våra medlemmar. Vi får en egen guidning av utställningen av Tine Bagh och på kvällen så äter de som vill en gemensam middag. EFIS står för inträde till utställningen samt middag (mat och mineralvatten). Alla ordnar sin egen resa och eventuellt hotell. \nAnmälan görs till ordförande Anne Landborg via mail. Ange om ni även vill äta middag på kvällen eller inte. Om ni skulle få ändrade planer efter att ni har anmält er\, meddela gärna oss då vi behöver i förväg berätta hur många som kommer till utställningen samt boka bord för rätt antal personer. Sista dagen för anmälan är 21:a april.
URL:https://www.efis.se/event/endast-medlemmar-amarnautstallningen-pa-glypoteket-i-kopenhamn/
LOCATION:Glyptoteket\, Dantes Plads 7\, København\, Danmark
CATEGORIES:Endast medlemmar,Resor,Visning
ATTACH;FMTTYPE=image/png:https://www.efis.se/wp-content/uploads/2023/03/Event_image_medlemmar_glyptoteket.png
END:VEVENT
BEGIN:VEVENT
DTSTART;TZID=Europe/Stockholm:20230420T183000
DTEND;TZID=Europe/Stockholm:20230420T200000
DTSTAMP:20260426T041414
CREATED:20230323T204027Z
LAST-MODIFIED:20230324T074747Z
UID:16366-1682015400-1682020800@www.efis.se
SUMMARY:The Restoration of the tomb of Amennakhte at Deir el-Medine – insights into tomb construction\, wall collapses and earlier excavations
DESCRIPTION:In 2021\, the Universities of Uppsala and Liège (Belgium) jointly launched a restoration project as part of the larger project on Deir el-Medine led by the French Archaeological Institute in Cairo. The presentation will provide you with results on the restorations carried out\, in particular the reconstruction of collapsed walls and a larger part of a facade with the floor above\, the securing of open shafts\, the problems of identifying modern and ancient walls\, details on ancient tomb building as well as with arguments as to why this undecorated tomb is attributed to the necropolis scribe Amennakhte son of Ipuy who was the chief scribe under Ramses III\, IV\, V and VI. \nMed Andreas Dorn\, professor i Egyptologi vid Uppsala universitet. Föredraget hålls på engelska.
URL:https://www.efis.se/event/the-restoration-of-the-tomb-of-amennakhte-at-deir-el-medine-insights-into-tomb-construction-wall-collapses-and-earlier-excavations/
LOCATION:Hjorthagens Kulturhus\, Artemisgatan 19\, Stockholm\, Sverige
CATEGORIES:Föredrag
ATTACH;FMTTYPE=image/png:https://www.efis.se/wp-content/uploads/2023/03/Amennakhte.png
END:VEVENT
BEGIN:VEVENT
DTSTART;TZID=Europe/Stockholm:20230330T183000
DTEND;TZID=Europe/Stockholm:20230330T193000
DTSTAMP:20260426T041414
CREATED:20230323T203149Z
LAST-MODIFIED:20230323T204120Z
UID:16358-1680201000-1680204600@www.efis.se
SUMMARY:Den svarta pyramiden – Fakta och fiktion i nordisk tidigmodern egyptologi
DESCRIPTION:I början av 1700-talet kom vetenskapsresenärer från Sverige och Danmark att besöka Egypten i syfte att utforska dess fornhistoria. Dessa expeditioner genomfördes under en tid då nya vetenskapliga ideal kom att utmana äldre teorier om det forntida Egypten. Detta föredrag handlar om vilka teorier som överlevde\, utmanades eller omvärderades samt vilken kunskap som producerades om det forntida Egypten i Norden. \nMed Joachim Östlund\, docent och lektor i historia vid Lunds universitet. \nFöredraget ges digitalt (via Zoom)\, föranmälan krävs – klicka här.
URL:https://www.efis.se/event/den-svarta-pyramiden-fakta-och-fiktion-i-nordisk-tidigmodern-egyptologi/
LOCATION:Zoom
CATEGORIES:Föredrag
ATTACH;FMTTYPE=image/png:https://www.efis.se/wp-content/uploads/2023/02/JO.png
END:VEVENT
END:VCALENDAR