BEGIN:VCALENDAR
VERSION:2.0
PRODID:-//EFIS - ECPv6.0.11//NONSGML v1.0//EN
CALSCALE:GREGORIAN
METHOD:PUBLISH
X-ORIGINAL-URL:https://www.efis.se
X-WR-CALDESC:Events for EFIS
REFRESH-INTERVAL;VALUE=DURATION:PT1H
X-Robots-Tag:noindex
X-PUBLISHED-TTL:PT1H
BEGIN:VTIMEZONE
TZID:Europe/Stockholm
BEGIN:DAYLIGHT
TZOFFSETFROM:+0100
TZOFFSETTO:+0200
TZNAME:CEST
DTSTART:20260329T010000
END:DAYLIGHT
BEGIN:STANDARD
TZOFFSETFROM:+0200
TZOFFSETTO:+0100
TZNAME:CET
DTSTART:20261025T010000
END:STANDARD
END:VTIMEZONE
BEGIN:VEVENT
DTSTART;TZID=Europe/Stockholm:20260318T183000
DTEND;TZID=Europe/Stockholm:20260318T200000
DTSTAMP:20260425T234842
CREATED:20260214T093705Z
LAST-MODIFIED:20260214T093705Z
UID:16754-1773858600-1773864000@www.efis.se
SUMMARY:Nefertiti’s Face: The Creation of an Icon
DESCRIPTION:Få skulpturer från Egypten är lika välkända som drottning Nefertitis porträttbyst från Amarna. Dock försvann både drottningen och skulpturen kort tid efter den senares tillkomst. År 1912 återupptäcktes porträttbysten och skickades till Tyskland där den fort kom att bli en världscelebritet. Egypten lider dock ej brist på fantastiska konstverk så hur kom det sig att just denna porträttbyst fick en sådan status? I aftonens föredrag kommer professor Joyce Tyldesley att undersöka skapandet av denna kulturella ikon\, allt från dess forntida ursprung till dess användning i den samtida världen. \nJoyce Tyldesley\, OBE\, disputerade vid universitetet i Oxford och är nu professor i egyptologi i Manchester. Hennes forskningsintresse har länge berört egyptiska drottningar och Amarna-perioden.
URL:https://www.efis.se/event/nefertitis-face-the-creation-of-an-icon/
LOCATION:Vuxenskolan Gärdet\, Sandhamnsgatan 8\, Stockholm\, Sverige
CATEGORIES:Föredrag
ATTACH;FMTTYPE=image/jpeg:https://www.efis.se/wp-content/uploads/2026/02/The_Nefertiti_Side_View-scaled.jpg
END:VEVENT
BEGIN:VEVENT
DTSTART;TZID=Europe/Stockholm:20260506T183000
DTEND;TZID=Europe/Stockholm:20260506T200000
DTSTAMP:20260425T234842
CREATED:20260417T140817Z
LAST-MODIFIED:20260417T140817Z
UID:16767-1778092200-1778097600@www.efis.se
SUMMARY:Faraos egna arbetare – Liv och död i Konungarnas dal
DESCRIPTION:I Konungarnas dal fanns inte bara död. Där fanns också liv. Mitt i den thebanska nekropolen låg byn Deir el-Medina\, där gravarbetarna bodde tillsammans med sina familjer. Byn finns bevarad som ruiner i landskapet\, men även i tusentals dokument på ostraka och papyrer. Med hjälp av dessa texter har egyptologer återskapat bybornas tillvaro. \nSofia Häggman är egyptolog och intendent på Medelhavsmuseet i Stockholm. Hon disputerade 2002 på en avhandling om Deir el-Medina. I sin senaste bok\, Faraos egna arbetare – Liv och död i Konungarnas dal\, och i sitt föredrag återvänder hon till arbetarbyn och berättar om detta ovanliga samhälle och om bybornas liv – under festdagar\, inför rätta\, i köket och nere i gravkamrarna. Det är en berättelse om kärlek och osämja\, brott och straff\, liv och död.
URL:https://www.efis.se/event/faraos-egna-arbetare-liv-och-dod-i-konungarnas-dal/
LOCATION:Vuxenskolan Gärdet\, Sandhamnsgatan 8\, Stockholm\, Sverige
CATEGORIES:Föredrag
ATTACH;FMTTYPE=image/jpeg:https://www.efis.se/wp-content/uploads/2026/04/unnamed-1.jpg
END:VEVENT
END:VCALENDAR