BEGIN:VCALENDAR
VERSION:2.0
PRODID:-//EFIS - ECPv6.0.11//NONSGML v1.0//EN
CALSCALE:GREGORIAN
METHOD:PUBLISH
X-WR-CALNAME:EFIS
X-ORIGINAL-URL:https://www.efis.se
X-WR-CALDESC:Events for EFIS
REFRESH-INTERVAL;VALUE=DURATION:PT1H
X-Robots-Tag:noindex
X-PUBLISHED-TTL:PT1H
BEGIN:VTIMEZONE
TZID:Europe/Stockholm
BEGIN:DAYLIGHT
TZOFFSETFROM:+0100
TZOFFSETTO:+0200
TZNAME:CEST
DTSTART:20250330T010000
END:DAYLIGHT
BEGIN:STANDARD
TZOFFSETFROM:+0200
TZOFFSETTO:+0100
TZNAME:CET
DTSTART:20251026T010000
END:STANDARD
END:VTIMEZONE
BEGIN:VEVENT
DTSTART;TZID=Europe/Stockholm:20251029T183000
DTEND;TZID=Europe/Stockholm:20251029T200000
DTSTAMP:20260426T010448
CREATED:20250911T110456Z
LAST-MODIFIED:20250919T145442Z
UID:16715-1761762600-1761768000@www.efis.se
SUMMARY:Kisttexter utan kista - Nehri II:s gravkapell
DESCRIPTION:Föredraget hålls på engelska. \nFör nästan 4000 år sedan lät guvernören Nehri II uppföra en monumental grav i klipporna vid dagens Dayr al-Barsha i Egypten. I taket på gravkapellet ristade Nehris konstnärer in en lång inskription som innehåller passager ur kisttexterna och som skulle hjälpa den avlidne i hans förvandling efter döden. \nDen egyptiska underjorden rymde många prövningar som Nehri endast kunde övervinna med magisk hjälp. Konstnärerna som dekorerade gravkammaren gjorde det dock inte lätt för honom. Kisttexterna innehåller nämligen en rad egenheter som ger en fascinerande inblick i den forntida egyptiska konstnärens arbetsmetoder. På så vis får den religiösa teorin ge vika för den konstnärliga praktiken. \nDr. Toon Sykora är konservator för samlingen Egypten och Nubien vid Rijksmuseum van Oudheden. Där bedriver han forskning och skapar utställningar om det forntida Egypten. Dessutom är han verksam som epigraf inom Dayr al-Barsha-projektet i Egypten. Under utgrävningskampanjerna 2023 och 2024 arbetade han med gravkapellet tillhörande Nehri II. \nFoto: Rijksmuseum van Oudheden\, Leiden\, Nederländerna
URL:https://www.efis.se/event/sarkofagtexter-utan-sarkofag-nehri-iis-gravkapell/
LOCATION:Vuxenskolan Gärdet\, Sandhamnsgatan 8\, Stockholm\, Sverige
CATEGORIES:Föredrag
ATTACH;FMTTYPE=image/jpeg:https://www.efis.se/wp-content/uploads/2025/09/Toon_Sykora_web.jpg
END:VEVENT
END:VCALENDAR